BEGIN:VCALENDAR
VERSION:2.0
PRODID:-// - ECPv6.15.20//NONSGML v1.0//EN
CALSCALE:GREGORIAN
METHOD:PUBLISH
X-ORIGINAL-URL:https://applegaterv.com
X-WR-CALDESC:Events for 
REFRESH-INTERVAL;VALUE=DURATION:PT1H
X-Robots-Tag:noindex
X-PUBLISHED-TTL:PT1H
BEGIN:VTIMEZONE
TZID:America/Los_Angeles
BEGIN:DAYLIGHT
TZOFFSETFROM:-0800
TZOFFSETTO:-0700
TZNAME:PDT
DTSTART:20230312T100000
END:DAYLIGHT
BEGIN:STANDARD
TZOFFSETFROM:-0700
TZOFFSETTO:-0800
TZNAME:PST
DTSTART:20231105T090000
END:STANDARD
BEGIN:DAYLIGHT
TZOFFSETFROM:-0800
TZOFFSETTO:-0700
TZNAME:PDT
DTSTART:20240310T100000
END:DAYLIGHT
BEGIN:STANDARD
TZOFFSETFROM:-0700
TZOFFSETTO:-0800
TZNAME:PST
DTSTART:20241103T090000
END:STANDARD
BEGIN:DAYLIGHT
TZOFFSETFROM:-0800
TZOFFSETTO:-0700
TZNAME:PDT
DTSTART:20250309T100000
END:DAYLIGHT
BEGIN:STANDARD
TZOFFSETFROM:-0700
TZOFFSETTO:-0800
TZNAME:PST
DTSTART:20251102T090000
END:STANDARD
END:VTIMEZONE
BEGIN:VEVENT
DTSTART;TZID=America/Los_Angeles:20241102T140000
DTEND;TZID=America/Los_Angeles:20241102T180000
DTSTAMP:20260423T161407
CREATED:20241027T202953Z
LAST-MODIFIED:20241027T203052Z
UID:1459-1730556000-1730570400@applegaterv.com
SUMMARY:Applegate River Golf & RV Resort Par 3 Challenge
DESCRIPTION:$1\,000 in Skins\n9 KP’s- $75 Each\nEntry includes Golf & Cart \n$25 holds your spot (non-refundable)\, $50 due at check-in (cash-only) \n#1 – 178 yds\n#2- 138 yds\n#3-153 yds\n#4-66 yds\n#5-123 yds\n#6-179 yds\n#7-157 yds\n#8-135 yds\n#9-151 yds \nThis event will fill fast! Call 541-955-0480 to reserve your spot.
URL:https://applegaterv.com/event/applegate-river-golf-rv-resort-par-3-challenge/
LOCATION:Applegate River Golf Club\, 7350 New Hope Road\, Grants Pass\, 97527\, United States
CATEGORIES:Golf Tournament
ATTACH;FMTTYPE=image/png:https://applegaterv.com/wp-content/uploads/2024/10/Applegate-River-Golf-Club-October-2024.png
END:VEVENT
BEGIN:VEVENT
DTSTART;TZID=America/Los_Angeles:20241019T100000
DTEND;TZID=America/Los_Angeles:20241019T130000
DTSTAMP:20260423T161407
CREATED:20241003T010448Z
LAST-MODIFIED:20241003T010448Z
UID:1034-1729332000-1729342800@applegaterv.com
SUMMARY:Applegate River Golf Club Member Appreciation Tournament
DESCRIPTION:The Applegate River Golf Club in the charming town of Grants Pass\, Oregon will be hosting their Member Appreciation Tournament on October 19\, 2024. \nThis annual event is a much-anticipated highlight for the club’s loyal members\, who eagerly look forward to the opportunity to tee off on the lush\, meticulously-maintained greens while surrounded by the stunning natural beauty of the Applegate River valley. The tournament will feature a variety of fun and exciting challenges\, from longest drive competitions to closest-to-the-pin contests\, providing ample opportunities for members to showcase their golfing prowess and vie for coveted prizes. \nIn between 9-rounds\, participants will be able to enjoy a delicious catered lunch and refreshments\, as well as engage in friendly camaraderie and reminisce about past club events and favorite memories on the course. As the crisp autumn air fills the picturesque setting\, the Applegate River Golf Club will transform into a vibrant hub of activity\, with members relishing the chance to celebrate their shared passion for the sport and the cherished community that the club has fostered over the years. \nThis tournament promises to be a truly remarkable day filled with fun\, friendly competition\, and the type of warm hospitality that has become the hallmark of the Applegate River Golf Club.
URL:https://applegaterv.com/event/applegate-river-golf-club-member-appreciation-tournament-2/
LOCATION:Applegate River Golf Club\, 7350 New Hope Road\, Grants Pass\, 97527\, United States
ATTACH;FMTTYPE=image/jpeg:https://applegaterv.com/wp-content/uploads/2024/08/post-sunrise.jpg
END:VEVENT
BEGIN:VEVENT
DTSTART;TZID=America/Los_Angeles:20241013T084500
DTEND;TZID=America/Los_Angeles:20241013T140000
DTSTAMP:20260423T161407
CREATED:20240831T171322Z
LAST-MODIFIED:20240831T173926Z
UID:1024-1728809100-1728828000@applegaterv.com
SUMMARY:Applegate River Golf Club Championship
DESCRIPTION:
URL:https://applegaterv.com/event/applegate-river-golf-club-championship-2/
LOCATION:Applegate River Golf Club\, 7350 New Hope Road\, Grants Pass\, 97527\, United States
ATTACH;FMTTYPE=image/jpeg:https://applegaterv.com/wp-content/uploads/2024/08/post-sunrise.jpg
END:VEVENT
BEGIN:VEVENT
DTSTART;TZID=America/Los_Angeles:20241012T084500
DTEND;TZID=America/Los_Angeles:20241012T140000
DTSTAMP:20260423T161407
CREATED:20240831T171211Z
LAST-MODIFIED:20240831T173912Z
UID:1022-1728722700-1728741600@applegaterv.com
SUMMARY:Applegate River Golf Club Championship
DESCRIPTION:
URL:https://applegaterv.com/event/applegate-river-golf-club-championship/
LOCATION:Applegate River Golf Club\, 7350 New Hope Road\, Grants Pass\, 97527\, United States
ATTACH;FMTTYPE=image/jpeg:https://applegaterv.com/wp-content/uploads/2024/08/post-sunrise.jpg
END:VEVENT
BEGIN:VEVENT
DTSTART;TZID=America/Los_Angeles:20240831T170000
DTEND;TZID=America/Los_Angeles:20240901T010000
DTSTAMP:20260423T161407
CREATED:20240714T213519Z
LAST-MODIFIED:20240714T222227Z
UID:969-1725123600-1725152400@applegaterv.com
SUMMARY:2024 Night Golf Tournament
DESCRIPTION:Tee off under the stars at Applegate River Golf Club’s thrilling Night Golf Tournament! This unique event offers an unforgettable experience that will have you golfing in the moonlight. \n\nNighttime golfing with glow-in-the-dark balls and tees\nIlluminated golf course with specialty lighting\nPrizes for longest drive\, closest to the pin\, and more\nPost-tournament social with food\, drinks\, and awards\n\nDon’t miss your chance to play 9 holes in a whole new way. The Night Golf Tournament is a one-of-a-kind experience that will leave you with memories that last long after the sun goes down. Whether you’re an avid golfer or looking for a fun night out\, this event is not to be missed. \nNote: \nif you should decide to book on Aug 31st\, due to the night golf tournament\, the course will be busy with players and course maintenance till approximately 2:00am.
URL:https://applegaterv.com/event/2024-night-golf-tournament/
LOCATION:Applegate River Golf Club\, 7350 New Hope Road\, Grants Pass\, 97527\, United States
ATTACH;FMTTYPE=image/jpeg:https://applegaterv.com/wp-content/uploads/2024/07/night-golf.jpeg
END:VEVENT
BEGIN:VEVENT
DTSTART;TZID=America/Los_Angeles:20240701T080000
DTEND;TZID=America/Los_Angeles:20240930T170000
DTSTAMP:20260423T161407
CREATED:20240701T221459Z
LAST-MODIFIED:20240831T171408Z
UID:988-1719820800-1727715600@applegaterv.com
SUMMARY:Stay and Play - Free Golf
DESCRIPTION:Attention\, golf enthusiasts! Unlock the keys to the kingdom with Stay & Play – your ticket to free golf at the acclaimed Applegate River Golf Club. \n• Tee off for free on one of the region’s premier courses\n• Challenge yourself on the club’s expertly designed layout\n• Immerse yourself in the serene\, natural beauty of the riverside setting\n• Enjoy the game you love without breaking the bank \nThis is your opportunity to experience the thrill of the fairway without paying a premium price. The Stay & Play offer allows you to indulge your passion for golf and make the most of your time on the links. Seize the day\, grab your clubs\, and get ready for an unforgettable round of free golf.
URL:https://applegaterv.com/event/stay-and-play-free-golf-after-1pm/
LOCATION:Applegate River Golf Club\, 7350 New Hope Road\, Grants Pass\, 97527\, United States
ATTACH;FMTTYPE=image/jpeg:https://applegaterv.com/wp-content/uploads/2023/11/arv_0207-header-bg2-scaled.jpg
END:VEVENT
END:VCALENDAR