BEGIN:VCALENDAR
VERSION:2.0
PRODID:-// - ECPv6.15.20//NONSGML v1.0//EN
CALSCALE:GREGORIAN
METHOD:PUBLISH
X-ORIGINAL-URL:https://applegaterv.com
X-WR-CALDESC:Events for 
REFRESH-INTERVAL;VALUE=DURATION:PT1H
X-Robots-Tag:noindex
X-PUBLISHED-TTL:PT1H
BEGIN:VTIMEZONE
TZID:America/Los_Angeles
BEGIN:DAYLIGHT
TZOFFSETFROM:-0800
TZOFFSETTO:-0700
TZNAME:PDT
DTSTART:20240310T100000
END:DAYLIGHT
BEGIN:STANDARD
TZOFFSETFROM:-0700
TZOFFSETTO:-0800
TZNAME:PST
DTSTART:20241103T090000
END:STANDARD
BEGIN:DAYLIGHT
TZOFFSETFROM:-0800
TZOFFSETTO:-0700
TZNAME:PDT
DTSTART:20250309T100000
END:DAYLIGHT
BEGIN:STANDARD
TZOFFSETFROM:-0700
TZOFFSETTO:-0800
TZNAME:PST
DTSTART:20251102T090000
END:STANDARD
BEGIN:DAYLIGHT
TZOFFSETFROM:-0800
TZOFFSETTO:-0700
TZNAME:PDT
DTSTART:20260308T100000
END:DAYLIGHT
BEGIN:STANDARD
TZOFFSETFROM:-0700
TZOFFSETTO:-0800
TZNAME:PST
DTSTART:20261101T090000
END:STANDARD
BEGIN:DAYLIGHT
TZOFFSETFROM:-0800
TZOFFSETTO:-0700
TZNAME:PDT
DTSTART:20270314T100000
END:DAYLIGHT
BEGIN:STANDARD
TZOFFSETFROM:-0700
TZOFFSETTO:-0800
TZNAME:PST
DTSTART:20271107T090000
END:STANDARD
END:VTIMEZONE
BEGIN:VEVENT
DTSTART;VALUE=DATE:20250201
DTEND;VALUE=DATE:20250502
DTSTAMP:20260423T173053
CREATED:20250201T182245Z
LAST-MODIFIED:20250201T182404Z
UID:1623-1738368000-1746143999@applegaterv.com
SUMMARY:Applegate Ace-Off
DESCRIPTION:Hole-in-One & Closest to the Pin Simulator Challenge.\n $5/3 shots.\nTee off for a chance to win big!\nJoin us for the 2025 Applegate Ace-Off!\nEvery week\, we’ll feature a new iconic golf course on our state-of-the-art Foresight Sports Simulator. Closest to the Pin winner announced weekly (Fridays) & the “Ace Pot” grows until a hole-in-one is made. \nFor even more chances to win\, stay at our new Applegate River RV Resort or become a new member at the Applegate River Golf Club & receive 3 shots free! \nCall 541-955-0480 for more information.
URL:https://applegaterv.com/event/applegate-ace-off/
LOCATION:Applegate River Golf Club\, 7350 New Hope Road\, Grants Pass\, 97527\, United States
END:VEVENT
BEGIN:VEVENT
DTSTART;TZID=America/Los_Angeles:20250320T170000
DTEND;TZID=America/Los_Angeles:20250320T183000
DTSTAMP:20260423T173053
CREATED:20250131T160806Z
LAST-MODIFIED:20250131T162059Z
UID:1577-1742490000-1742495400@applegaterv.com
SUMMARY:Women's League Information Meeting
DESCRIPTION:The 2025 Women’s League is beginning to assemble. If you are interested in joining\, please attend the meeting on Thursday\, March 20th at 5:30 P.M. All skill levels invited\, weekly cash prizes and match play for cash. Come and join the fun! For more information\, please visit the Applegate Leagues page.
URL:https://applegaterv.com/event/womens-league-information-meeting/
LOCATION:Applegate River Golf Club\, 7350 New Hope Road\, Grants Pass\, 97527\, United States
CATEGORIES:Women's League
END:VEVENT
BEGIN:VEVENT
DTSTART;TZID=America/Los_Angeles:20250403T153000
DTEND;TZID=America/Los_Angeles:20250731T200000
DTSTAMP:20260423T173053
CREATED:20250322T172318Z
LAST-MODIFIED:20250805T144925Z
UID:1704-1743694200-1753992000@applegaterv.com
SUMMARY:Applegate Women's League Play
DESCRIPTION:The Applegate Women’s League will be in full swing every Thursday evening from April 3-August 21\, 2025. \nTee reservations will not be available to the general public starting at 3:30 p.m. on Thursdays.
URL:https://applegaterv.com/event/applegate-womens-league-play/
LOCATION:Applegate River Golf Club\, 7350 New Hope Road\, Grants Pass\, 97527\, United States
CATEGORIES:Women's League
ATTACH;FMTTYPE=image/jpeg:https://applegaterv.com/wp-content/uploads/2024/10/ladies-league-feature.jpg
END:VEVENT
BEGIN:VEVENT
DTSTART;TZID=America/Los_Angeles:20250411T170000
DTEND;TZID=America/Los_Angeles:20250411T200000
DTSTAMP:20260423T173053
CREATED:20250404T234533Z
LAST-MODIFIED:20250404T234742Z
UID:1863-1744390800-1744401600@applegaterv.com
SUMMARY:Women's League Play
DESCRIPTION:Please be aware that the golf course will be closed to general play on Thursdays at 3:30 p.m. due to Applegate Women’s League play. We kindly ask that you plan your round of golf around this time to ensure a smooth experience for everyone. Thank you for your understanding and cooperation!
URL:https://applegaterv.com/event/womens-league-play/
LOCATION:Applegate River Golf Club\, 7350 New Hope Road\, Grants Pass\, 97527\, United States
CATEGORIES:Women's League
END:VEVENT
BEGIN:VEVENT
DTSTART;TZID=America/Los_Angeles:20250423T153000
DTEND;TZID=America/Los_Angeles:20250730T200000
DTSTAMP:20260423T173053
CREATED:20250322T172830Z
LAST-MODIFIED:20250728T141614Z
UID:1706-1745422200-1753905600@applegaterv.com
SUMMARY:Applegate Men's League
DESCRIPTION:The Applegate Men’s League will be in full swing every Wednesday evening from April 23-July 30\, 2025. \nTee reservations will not be available to the general public starting at 3:30 p.m. on Wednesdays.
URL:https://applegaterv.com/event/applegate-mens-league/
LOCATION:Applegate River Golf Club\, 7350 New Hope Road\, Grants Pass\, 97527\, United States
CATEGORIES:Men's League
ATTACH;FMTTYPE=image/jpeg:https://applegaterv.com/wp-content/uploads/2024/10/mens-league_feature.jpg
END:VEVENT
BEGIN:VEVENT
DTSTART;TZID=America/Los_Angeles:20250531T080000
DTEND;TZID=America/Los_Angeles:20250531T140000
DTSTAMP:20260423T173053
CREATED:20250322T175948Z
LAST-MODIFIED:20250524T000726Z
UID:1714-1748678400-1748700000@applegaterv.com
SUMMARY:EVENT CANCELLED -- Flighted Skins Tournament
DESCRIPTION:We apologize for having to cancel this event. Please check back for more tournament opportunities at a later date.\nFor questions\, reach out to our ProShop at 541-955-0480.
URL:https://applegaterv.com/event/applegate-river-golf-tournament/
LOCATION:Applegate River Golf Club\, 7350 New Hope Road\, Grants Pass\, 97527\, United States
CATEGORIES:Golf Tournament
END:VEVENT
BEGIN:VEVENT
DTSTART;TZID=America/Los_Angeles:20250704T083000
DTEND;TZID=America/Los_Angeles:20250704T140000
DTSTAMP:20260423T173053
CREATED:20250607T020005Z
LAST-MODIFIED:20250607T020005Z
UID:1908-1751617800-1751637600@applegaterv.com
SUMMARY:Hess & Sisco Family Memorial Scramble!
DESCRIPTION:9:00 a.m. Shotgun Start \n18 Hole / 2-Person Scramble \nAwards for Closest to the Pin on #2 & #9 \nLunch\, Raffle and Awards directly following the tournament \n$30/member – $60/non-member (cart included) \nSign up at the ProShop\, call 541-955-0480
URL:https://applegaterv.com/event/hess-sisco-family-memorial-scramble/
CATEGORIES:Golf Tournament
ATTACH;FMTTYPE=image/png:https://applegaterv.com/wp-content/uploads/2025/06/Screen-Shot-2025-06-06-at-6.58.04-PM.png
END:VEVENT
BEGIN:VEVENT
DTSTART;TZID=America/Los_Angeles:20250704T200000
DTEND;TZID=America/Los_Angeles:20250704T233000
DTSTAMP:20260423T173053
CREATED:20250607T025734Z
LAST-MODIFIED:20250607T025734Z
UID:1922-1751659200-1751671800@applegaterv.com
SUMMARY:Independence Day Glow Golf Celebration
DESCRIPTION:Friday\, July 4\, 2025 \n8:00 p.m. – Midnight \n3 par / 3 holes\nPlay All Night\n$25/player \nBar and Kitchen open until 11:00 p.m.
URL:https://applegaterv.com/event/independence-day-glow-golf-celebration/
LOCATION:Applegate River Golf Club\, 7350 New Hope Road\, Grants Pass\, 97527\, United States
CATEGORIES:Special Events
ATTACH;FMTTYPE=image/png:https://applegaterv.com/wp-content/uploads/2025/06/Screen-Shot-2025-06-06-at-7.54.29-PM.png
END:VEVENT
BEGIN:VEVENT
DTSTART;TZID=America/Los_Angeles:20250802T170000
DTEND;TZID=America/Los_Angeles:20250803T010000
DTSTAMP:20260423T173054
CREATED:20250410T004246Z
LAST-MODIFIED:20250728T141831Z
UID:1877-1754154000-1754182800@applegaterv.com
SUMMARY:Night Golf Tournament
DESCRIPTION:Book any RV site along with registration for our Night Golf Tournament on August 2\, 2025 and get a $10 rebate!\n\n\n4 person Scramble\n5:30 pm Tee Off \n\nDaylight front 9\nDinner and Raffle\nAfter Dark back 9\n\n$75 per player\n$10 cart (daylight hours only) \nTo ensure your team a space\, registration and fees must be paid in full by Monday\, July 28. \nCall 541-955-0480 for more info
URL:https://applegaterv.com/event/night-golf-tournament/
CATEGORIES:Golf Tournament
ATTACH;FMTTYPE=image/jpeg:https://applegaterv.com/wp-content/uploads/2025/04/nightGolf-August2025.jpg
END:VEVENT
BEGIN:VEVENT
DTSTART;TZID=America/Los_Angeles:20250807T153000
DTEND;TZID=America/Los_Angeles:20250807T200000
DTSTAMP:20260423T173054
CREATED:20250801T134853Z
LAST-MODIFIED:20250801T134853Z
UID:2010-1754580600-1754596800@applegaterv.com
SUMMARY:Women's League: Final Day of Points
DESCRIPTION:4:30-close. \nLast Tee-Time is 3:30.
URL:https://applegaterv.com/event/womens-league-final-day-of-points/
LOCATION:Applegate River Golf Club\, 7350 New Hope Road\, Grants Pass\, 97527\, United States
CATEGORIES:Women's League
ATTACH;FMTTYPE=image/jpeg:https://applegaterv.com/wp-content/uploads/2024/10/ladies-league-feature.jpg
END:VEVENT
BEGIN:VEVENT
DTSTART;TZID=America/Los_Angeles:20250813T150000
DTEND;TZID=America/Los_Angeles:20250813T203000
DTSTAMP:20260423T173054
CREATED:20250731T035441Z
LAST-MODIFIED:20250808T221339Z
UID:2007-1755097200-1755117000@applegaterv.com
SUMMARY:Men's League Blind Scramble
DESCRIPTION:Last Tee-Time is 3:30 for the public.
URL:https://applegaterv.com/event/mens-league-blind-scramble/
LOCATION:Applegate River Golf Club\, 7350 New Hope Road\, Grants Pass\, 97527\, United States
CATEGORIES:Men's League,Special Events
ATTACH;FMTTYPE=image/jpeg:https://applegaterv.com/wp-content/uploads/2025/07/mens.jpg
END:VEVENT
BEGIN:VEVENT
DTSTART;TZID=America/Los_Angeles:20250814T153000
DTEND;TZID=America/Los_Angeles:20250814T200000
DTSTAMP:20260423T173054
CREATED:20250801T135038Z
LAST-MODIFIED:20250801T135224Z
UID:2012-1755185400-1755201600@applegaterv.com
SUMMARY:Women's League: Scramble
DESCRIPTION:Course closed for the end of year Appleteeni Scramble \nLast Tee-Time for the public is 3:30 p.m.
URL:https://applegaterv.com/event/womens-league-scramble/
LOCATION:Applegate River Golf Club\, 7350 New Hope Road\, Grants Pass\, 97527\, United States
CATEGORIES:Women's League
ATTACH;FMTTYPE=image/jpeg:https://applegaterv.com/wp-content/uploads/2024/10/ladies-league-feature.jpg
END:VEVENT
BEGIN:VEVENT
DTSTART;TZID=America/Los_Angeles:20250821T153000
DTEND;TZID=America/Los_Angeles:20250821T200000
DTSTAMP:20260423T173054
CREATED:20250801T135146Z
LAST-MODIFIED:20250801T135146Z
UID:2014-1755790200-1755806400@applegaterv.com
SUMMARY:Women's League: Scramble
DESCRIPTION:Course closed for the end of year Appleteeni Scramble \nLast Tee-Time is 3:30.
URL:https://applegaterv.com/event/womens-league-scramble-2/
LOCATION:Applegate River Golf Club\, 7350 New Hope Road\, Grants Pass\, 97527\, United States
CATEGORIES:Women's League
ATTACH;FMTTYPE=image/jpeg:https://applegaterv.com/wp-content/uploads/2024/10/ladies-league-feature.jpg
END:VEVENT
BEGIN:VEVENT
DTSTART;TZID=America/Los_Angeles:20250823T070000
DTEND;TZID=America/Los_Angeles:20250823T103000
DTSTAMP:20260423T173054
CREATED:20250731T035120Z
LAST-MODIFIED:20250731T035120Z
UID:2004-1755932400-1755945000@applegaterv.com
SUMMARY:Women's League Tournament
DESCRIPTION:“Appleteenis” are taking the course!\nCourse will be available for public Tee-Times starting at 10:30 a.m.
URL:https://applegaterv.com/event/womens-league-tournament/
LOCATION:Applegate River Golf Club\, 7350 New Hope Road\, Grants Pass\, 97527\, United States
CATEGORIES:Special Events,Women's League
ATTACH;FMTTYPE=image/jpeg:https://applegaterv.com/wp-content/uploads/2025/07/womens.jpg
END:VEVENT
BEGIN:VEVENT
DTSTART;VALUE=DATE:20250920
DTEND;VALUE=DATE:20250921
DTSTAMP:20260423T173054
CREATED:20250410T004101Z
LAST-MODIFIED:20250410T004411Z
UID:1875-1758326400-1758412799@applegaterv.com
SUMMARY:Course Closed for Private Event
DESCRIPTION:Our golf course will be closed for a private event.
URL:https://applegaterv.com/event/course-and-proshop-closed-for-private-event/
CATEGORIES:Closure
ATTACH;FMTTYPE=image/jpeg:https://applegaterv.com/wp-content/uploads/2024/01/wedding-venue.jpg
END:VEVENT
BEGIN:VEVENT
DTSTART;TZID=America/Los_Angeles:20251012T080000
DTEND;TZID=America/Los_Angeles:20251101T170000
DTSTAMP:20260423T173054
CREATED:20250911T142653Z
LAST-MODIFIED:20251125T021645Z
UID:2037-1760256000-1762016400@applegaterv.com
SUMMARY:Winter Simulation League
DESCRIPTION:Join Applegate River Golf & RV Resort for our Winter Simulator League! \nDon’t let winter stop your game! Sign up for our Winter Simulator League and keep your swing sharp all season long. Each week\, you’ll play a different world-class course on our state-of-the-art indoor golf simulator—complete with detailed stats to track your performance. \n🎁 Amazing weekly and grand prizes\n⛳ A new course challenge every week\n📊 Full stats and feedback after every round \nReady to tee it up? Give the Pro Shop a call to sign up today!\nLet’s make this winter a hole-in-one! ❄️🏌️‍♀️ \n\n2-Person Teams\nCumulative Scoring\nNew Course Every Week\nWeekly Prizes\n$100 / team registration\n$46 GHIN activation (if currently inactive)\n$20/team/week for “green fee”\n\nChampionship Playoff at end of season! \n\n1st place: $1000\n2nd place: $500\n3rd place: $250\n\nVisit our Simulator page for course info.\nCall the Proshop to sign up: 541-955-0480
URL:https://applegaterv.com/event/winter-simulation-league/
CATEGORIES:Golf Tournament,Special Events
ATTACH;FMTTYPE=image/png:https://applegaterv.com/wp-content/uploads/2025/09/winterSimSocial.png
END:VEVENT
BEGIN:VEVENT
DTSTART;VALUE=DATE:20251121
DTEND;VALUE=DATE:20260301
DTSTAMP:20260423T173054
CREATED:20251125T013648Z
LAST-MODIFIED:20251125T022809Z
UID:2105-1763683200-1772323199@applegaterv.com
SUMMARY:Winter VIP Punch Card
DESCRIPTION:Good for 10 individual days of VIP full access play (cart not included)\nBring the crew! Bring up to 3 friends each day ($10 each player for 9 holes)\nOffer expires Feb. 28\, 2026\n\n$175 / card\nTee Time Reservations Required\nCall 541-955-0480 for more information. \nTerms and Conditions Apply
URL:https://applegaterv.com/event/winter-vip-punch-card/
LOCATION:Applegate River Golf Club\, 7350 New Hope Road\, Grants Pass\, 97527\, United States
ATTACH;FMTTYPE=image/png:https://applegaterv.com/wp-content/uploads/2025/11/punchCardSocial.png
END:VEVENT
BEGIN:VEVENT
DTSTART;TZID=America/Los_Angeles:20260319T173000
DTEND;TZID=America/Los_Angeles:20260319T183000
DTSTAMP:20260423T173054
CREATED:20260115T031545Z
LAST-MODIFIED:20260309T143244Z
UID:2175-1773941400-1773945000@applegaterv.com
SUMMARY:2026 Ladies League Info Session
DESCRIPTION:Stop by the ProShop on Thursday\, March 19 at 5:30 pm to learn all about ladies league play at Applegate Golf. \nWe’ll cover:• Costs• Rules• Dates of play• And answer any questions you may have \nGolfers of all skill levels are welcome. We look forward to meeting you!
URL:https://applegaterv.com/event/2026-womens-league-info-session/
LOCATION:Applegate River Golf Club\, 7350 New Hope Road\, Grants Pass\, 97527\, United States
ATTACH;FMTTYPE=image/jpeg:https://applegaterv.com/wp-content/uploads/2024/10/ladies-league-feature.jpg
END:VEVENT
BEGIN:VEVENT
DTSTART;TZID=America/Los_Angeles:20260401T170000
DTEND;TZID=America/Los_Angeles:20260401T183000
DTSTAMP:20260423T173054
CREATED:20260309T143805Z
LAST-MODIFIED:20260309T144131Z
UID:2248-1775062800-1775068200@applegaterv.com
SUMMARY:Men's & Early Birdie League Information Meeting
DESCRIPTION:We still have plenty of open spots on our Tuesday “Early Birdies” and our Wednesday Twilight Mens leagues! \nCome on down and sign up soon\, ANDJOIN US for a league meeting to cover league format\, schedules\, and sign-ups for the season. We will also help players get set up with their GHIN if needed and answer any questions you may have. \nSee you at the Applegate River Golf ProShop Weds. April 1 at 5:00 p.m.
URL:https://applegaterv.com/event/mens-early-birdie-league-information-meeting/
LOCATION:Applegate River Golf Club\, 7350 New Hope Road\, Grants Pass\, 97527\, United States
CATEGORIES:Men's League
ATTACH;FMTTYPE=image/png:https://applegaterv.com/wp-content/uploads/2026/03/Untitled-4.png
END:VEVENT
BEGIN:VEVENT
DTSTART;TZID=America/Los_Angeles:20260415T053000
DTEND;TZID=America/Los_Angeles:20260415T200000
DTSTAMP:20260423T173054
CREATED:20260117T163349Z
LAST-MODIFIED:20260208T202951Z
UID:2179-1776231000-1776283200@applegaterv.com
SUMMARY:Mens League
DESCRIPTION:Wednesdays\, April 15-August 12.\n5:30 Shot Gun Start\n2-pair teams \nCourse will close at 3:30 for League Play \nCall 541-955-0480 for more info.
URL:https://applegaterv.com/event/mens-league/
CATEGORIES:Men's League
ATTACH;FMTTYPE=image/png:https://applegaterv.com/wp-content/uploads/2026/01/mensLeague2026.png
END:VEVENT
END:VCALENDAR